BEGIN:VCALENDAR
VERSION:2.0
PRODID:-//Poway Knights of Columbus - ECPv6.15.17.1//NONSGML v1.0//EN
CALSCALE:GREGORIAN
METHOD:PUBLISH
X-ORIGINAL-URL:https://powayknights.com
X-WR-CALDESC:Events for Poway Knights of Columbus
REFRESH-INTERVAL;VALUE=DURATION:PT1H
X-Robots-Tag:noindex
X-PUBLISHED-TTL:PT1H
BEGIN:VTIMEZONE
TZID:America/Los_Angeles
BEGIN:DAYLIGHT
TZOFFSETFROM:-0800
TZOFFSETTO:-0700
TZNAME:PDT
DTSTART:20240310T100000
END:DAYLIGHT
BEGIN:STANDARD
TZOFFSETFROM:-0700
TZOFFSETTO:-0800
TZNAME:PST
DTSTART:20241103T090000
END:STANDARD
BEGIN:DAYLIGHT
TZOFFSETFROM:-0800
TZOFFSETTO:-0700
TZNAME:PDT
DTSTART:20250309T100000
END:DAYLIGHT
BEGIN:STANDARD
TZOFFSETFROM:-0700
TZOFFSETTO:-0800
TZNAME:PST
DTSTART:20251102T090000
END:STANDARD
BEGIN:DAYLIGHT
TZOFFSETFROM:-0800
TZOFFSETTO:-0700
TZNAME:PDT
DTSTART:20260308T100000
END:DAYLIGHT
BEGIN:STANDARD
TZOFFSETFROM:-0700
TZOFFSETTO:-0800
TZNAME:PST
DTSTART:20261101T090000
END:STANDARD
END:VTIMEZONE
BEGIN:VEVENT
DTSTART;TZID=America/Los_Angeles:20250604T193000
DTEND;TZID=America/Los_Angeles:20250604T204500
DTSTAMP:20260425T213012
CREATED:20250406T174047Z
LAST-MODIFIED:20250406T174047Z
UID:7179-1749065400-1749069900@powayknights.com
SUMMARY:Council Meeting
DESCRIPTION:
URL:https://powayknights.com/event/council-meeting-41/
LOCATION:St Gabriel Church\, 13734 Twin Peaks Road\, Poway\, CA\, 92064\, United States
CATEGORIES:Knights Events,Meetings
END:VEVENT
BEGIN:VEVENT
DTSTART;TZID=America/Los_Angeles:20250613T100000
DTEND;TZID=America/Los_Angeles:20250613T110000
DTSTAMP:20260425T213012
CREATED:20250605T195605Z
LAST-MODIFIED:20250605T195605Z
UID:7257-1749808800-1749812400@powayknights.com
SUMMARY:Don Janiuk Funeral
DESCRIPTION:
URL:https://powayknights.com/event/don-janiuk-funeral/
LOCATION:St Gabriel Church\, 13734 Twin Peaks Road\, Poway\, CA\, 92064\, United States
CATEGORIES:Knights Events,Parish Events
END:VEVENT
BEGIN:VEVENT
DTSTART;TZID=America/Los_Angeles:20250618T193000
DTEND;TZID=America/Los_Angeles:20250618T204500
DTSTAMP:20260425T213012
CREATED:20250406T174127Z
LAST-MODIFIED:20250406T174127Z
UID:7181-1750275000-1750279500@powayknights.com
SUMMARY:Council Meeting
DESCRIPTION:
URL:https://powayknights.com/event/council-meeting-42/
LOCATION:St Gabriel Church\, 13734 Twin Peaks Road\, Poway\, CA\, 92064\, United States
CATEGORIES:Knights Events,Meetings
END:VEVENT
BEGIN:VEVENT
DTSTART;TZID=America/Los_Angeles:20250621T113000
DTEND;TZID=America/Los_Angeles:20250621T160000
DTSTAMP:20260425T213012
CREATED:20250417T203850Z
LAST-MODIFIED:20250605T201054Z
UID:7205-1750505400-1750521600@powayknights.com
SUMMARY:Cornhole Picnic
DESCRIPTION:RSVP for location and information to Rich Shea at 760-504-3244 or rkshea48@cox.net or click the “Picnic Sign-up” button on the Home page.
URL:https://powayknights.com/event/cornhole-picnic/
LOCATION:CA
CATEGORIES:Knights Events,Social
ATTACH;FMTTYPE=image/jpeg:https://powayknights.com/wp-content/uploads/2022/06/cornholefeatured.jpg
END:VEVENT
BEGIN:VEVENT
DTSTART;TZID=America/Los_Angeles:20250622T103000
DTEND;TZID=America/Los_Angeles:20250622T113000
DTSTAMP:20260425T213012
CREATED:20250605T200019Z
LAST-MODIFIED:20250605T200019Z
UID:7259-1750588200-1750591800@powayknights.com
SUMMARY:Corporate Communion
DESCRIPTION:Scholarship Winners will be announced
URL:https://powayknights.com/event/corporate-communion-4/
LOCATION:St Gabriel Church\, 13734 Twin Peaks Road\, Poway\, CA\, 92064\, United States
CATEGORIES:Knights Events
END:VEVENT
END:VCALENDAR