BEGIN:VCALENDAR
VERSION:2.0
PRODID:-//Poway Knights of Columbus - ECPv6.15.17.1//NONSGML v1.0//EN
CALSCALE:GREGORIAN
METHOD:PUBLISH
X-WR-CALNAME:Poway Knights of Columbus
X-ORIGINAL-URL:https://powayknights.com
X-WR-CALDESC:Events for Poway Knights of Columbus
REFRESH-INTERVAL;VALUE=DURATION:PT1H
X-Robots-Tag:noindex
X-PUBLISHED-TTL:PT1H
BEGIN:VTIMEZONE
TZID:America/Los_Angeles
BEGIN:DAYLIGHT
TZOFFSETFROM:-0800
TZOFFSETTO:-0700
TZNAME:PDT
DTSTART:20240310T100000
END:DAYLIGHT
BEGIN:STANDARD
TZOFFSETFROM:-0700
TZOFFSETTO:-0800
TZNAME:PST
DTSTART:20241103T090000
END:STANDARD
BEGIN:DAYLIGHT
TZOFFSETFROM:-0800
TZOFFSETTO:-0700
TZNAME:PDT
DTSTART:20250309T100000
END:DAYLIGHT
BEGIN:STANDARD
TZOFFSETFROM:-0700
TZOFFSETTO:-0800
TZNAME:PST
DTSTART:20251102T090000
END:STANDARD
BEGIN:DAYLIGHT
TZOFFSETFROM:-0800
TZOFFSETTO:-0700
TZNAME:PDT
DTSTART:20260308T100000
END:DAYLIGHT
BEGIN:STANDARD
TZOFFSETFROM:-0700
TZOFFSETTO:-0800
TZNAME:PST
DTSTART:20261101T090000
END:STANDARD
END:VTIMEZONE
BEGIN:VEVENT
DTSTART;TZID=America/Los_Angeles:20251105T193000
DTEND;TZID=America/Los_Angeles:20251105T204500
DTSTAMP:20260425T085404
CREATED:20251004T210756Z
LAST-MODIFIED:20251004T210756Z
UID:7398-1762371000-1762375500@powayknights.com
SUMMARY:Council Meeting
DESCRIPTION:
URL:https://powayknights.com/event/council-meeting-50/
LOCATION:St Gabriel Church\, 13734 Twin Peaks Road\, Poway\, CA\, 92064\, United States
CATEGORIES:Knights Events,Meetings
END:VEVENT
BEGIN:VEVENT
DTSTART;TZID=America/Los_Angeles:20251109T103000
DTEND;TZID=America/Los_Angeles:20251109T113000
DTSTAMP:20260425T085404
CREATED:20251004T211023Z
LAST-MODIFIED:20251004T211023Z
UID:7400-1762684200-1762687800@powayknights.com
SUMMARY:Corporate Communion
DESCRIPTION:Veterans Mass
URL:https://powayknights.com/event/corporate-communion-5/
LOCATION:St Gabriel Church\, 13734 Twin Peaks Road\, Poway\, CA\, 92064\, United States
CATEGORIES:Knights Events
END:VEVENT
BEGIN:VEVENT
DTSTART;TZID=America/Los_Angeles:20251119T193000
DTEND;TZID=America/Los_Angeles:20251119T210000
DTSTAMP:20260425T085404
CREATED:20251004T211145Z
LAST-MODIFIED:20251004T211919Z
UID:7402-1763580600-1763586000@powayknights.com
SUMMARY:Council Meeting - Veterans Celebration
DESCRIPTION:
URL:https://powayknights.com/event/council-meeting-veterans-celebration/
LOCATION:St Gabriel Church\, 13734 Twin Peaks Road\, Poway\, CA\, 92064\, United States
CATEGORIES:Knights Events,Meetings
END:VEVENT
END:VCALENDAR