BEGIN:VCALENDAR
VERSION:2.0
PRODID:-//Poway Knights of Columbus - ECPv6.15.17.1//NONSGML v1.0//EN
CALSCALE:GREGORIAN
METHOD:PUBLISH
X-ORIGINAL-URL:https://powayknights.com
X-WR-CALDESC:Events for Poway Knights of Columbus
REFRESH-INTERVAL;VALUE=DURATION:PT1H
X-Robots-Tag:noindex
X-PUBLISHED-TTL:PT1H
BEGIN:VTIMEZONE
TZID:America/Los_Angeles
BEGIN:DAYLIGHT
TZOFFSETFROM:-0800
TZOFFSETTO:-0700
TZNAME:PDT
DTSTART:20250309T100000
END:DAYLIGHT
BEGIN:STANDARD
TZOFFSETFROM:-0700
TZOFFSETTO:-0800
TZNAME:PST
DTSTART:20251102T090000
END:STANDARD
BEGIN:DAYLIGHT
TZOFFSETFROM:-0800
TZOFFSETTO:-0700
TZNAME:PDT
DTSTART:20260308T100000
END:DAYLIGHT
BEGIN:STANDARD
TZOFFSETFROM:-0700
TZOFFSETTO:-0800
TZNAME:PST
DTSTART:20261101T090000
END:STANDARD
BEGIN:DAYLIGHT
TZOFFSETFROM:-0800
TZOFFSETTO:-0700
TZNAME:PDT
DTSTART:20270314T100000
END:DAYLIGHT
BEGIN:STANDARD
TZOFFSETFROM:-0700
TZOFFSETTO:-0800
TZNAME:PST
DTSTART:20271107T090000
END:STANDARD
END:VTIMEZONE
BEGIN:VEVENT
DTSTART;TZID=America/Los_Angeles:20260121T193000
DTEND;TZID=America/Los_Angeles:20260121T204500
DTSTAMP:20260425T171618
CREATED:20251201T052441Z
LAST-MODIFIED:20251201T052441Z
UID:7437-1769023800-1769028300@powayknights.com
SUMMARY:Council Meeting
DESCRIPTION:
URL:https://powayknights.com/event/council-meeting-54/
LOCATION:St Gabriel Church\, 13734 Twin Peaks Road\, Poway\, CA\, 92064\, United States
CATEGORIES:Knights Events,Meetings
END:VEVENT
BEGIN:VEVENT
DTSTART;TZID=America/Los_Angeles:20260130T190000
DTEND;TZID=America/Los_Angeles:20260130T210000
DTSTAMP:20260425T171618
CREATED:20260106T185950Z
LAST-MODIFIED:20260106T190155Z
UID:7472-1769799600-1769806800@powayknights.com
SUMMARY:Exemplification Event
DESCRIPTION:
URL:https://powayknights.com/event/exemplification-event/
LOCATION:St Gabriel Church\, 13734 Twin Peaks Road\, Poway\, CA\, 92064\, United States
CATEGORIES:Knights Events,Meetings
END:VEVENT
BEGIN:VEVENT
DTSTART;TZID=America/Los_Angeles:20260204T193000
DTEND;TZID=America/Los_Angeles:20260204T204500
DTSTAMP:20260425T171618
CREATED:20260106T190055Z
LAST-MODIFIED:20260106T190055Z
UID:7474-1770233400-1770237900@powayknights.com
SUMMARY:Council Meeting
DESCRIPTION:
URL:https://powayknights.com/event/council-meeting-55/
LOCATION:St Gabriel Church\, 13734 Twin Peaks Road\, Poway\, CA\, 92064\, United States
CATEGORIES:Knights Events,Meetings
END:VEVENT
BEGIN:VEVENT
DTSTART;TZID=America/Los_Angeles:20260206T100000
DTEND;TZID=America/Los_Angeles:20260206T110000
DTSTAMP:20260425T171618
CREATED:20260129T021045Z
LAST-MODIFIED:20260129T021045Z
UID:7511-1770372000-1770375600@powayknights.com
SUMMARY:Ernest Morales Funeral
DESCRIPTION:
URL:https://powayknights.com/event/ernest-morales-funeral/
LOCATION:St Gabriel Church\, 13734 Twin Peaks Road\, Poway\, CA\, 92064\, United States
CATEGORIES:Knights Events,Parish Events
END:VEVENT
BEGIN:VEVENT
DTSTART;TZID=America/Los_Angeles:20260213T100000
DTEND;TZID=America/Los_Angeles:20260213T110000
DTSTAMP:20260425T171618
CREATED:20260129T021219Z
LAST-MODIFIED:20260129T021219Z
UID:7513-1770976800-1770980400@powayknights.com
SUMMARY:John Wakelin Funeral
DESCRIPTION:
URL:https://powayknights.com/event/john-wakelin-funeral/
LOCATION:St Gabriel Church\, 13734 Twin Peaks Road\, Poway\, CA\, 92064\, United States
CATEGORIES:Knights Events,Parish Events
END:VEVENT
BEGIN:VEVENT
DTSTART;VALUE=DATE:20260218
DTEND;VALUE=DATE:20260219
DTSTAMP:20260425T171618
CREATED:20260129T020001Z
LAST-MODIFIED:20260217T221951Z
UID:7497-1771372800-1771459199@powayknights.com
SUMMARY:No Council Meeting
DESCRIPTION:
URL:https://powayknights.com/event/council-meeting-56/
LOCATION:St Gabriel Church\, 13734 Twin Peaks Road\, Poway\, CA\, 92064\, United States
CATEGORIES:Knights Events,Meetings
END:VEVENT
BEGIN:VEVENT
DTSTART;TZID=America/Los_Angeles:20260304T193000
DTEND;TZID=America/Los_Angeles:20260304T204500
DTSTAMP:20260425T171618
CREATED:20260217T222318Z
LAST-MODIFIED:20260217T222318Z
UID:7564-1772652600-1772657100@powayknights.com
SUMMARY:Council Meeting
DESCRIPTION:
URL:https://powayknights.com/event/council-meeting-58/
LOCATION:St Gabriel Church\, 13734 Twin Peaks Road\, Poway\, CA\, 92064\, United States
CATEGORIES:Knights Events,Meetings
END:VEVENT
BEGIN:VEVENT
DTSTART;TZID=America/Los_Angeles:20260318T193000
DTEND;TZID=America/Los_Angeles:20260318T204500
DTSTAMP:20260425T171618
CREATED:20260217T222144Z
LAST-MODIFIED:20260217T222229Z
UID:7562-1773862200-1773866700@powayknights.com
SUMMARY:Council Meeting
DESCRIPTION:
URL:https://powayknights.com/event/council-meeting-57/
LOCATION:St Gabriel Church\, 13734 Twin Peaks Road\, Poway\, CA\, 92064\, United States
CATEGORIES:Knights Events,Meetings
END:VEVENT
BEGIN:VEVENT
DTSTART;TZID=America/Los_Angeles:20260401T193000
DTEND;TZID=America/Los_Angeles:20260401T204500
DTSTAMP:20260425T171618
CREATED:20260414T152205Z
LAST-MODIFIED:20260414T152205Z
UID:7773-1775071800-1775076300@powayknights.com
SUMMARY:Council Meeting
DESCRIPTION:
URL:https://powayknights.com/event/council-meeting-59/
LOCATION:St Gabriel Church\, 13734 Twin Peaks Road\, Poway\, CA\, 92064\, United States
CATEGORIES:Knights Events,Meetings
END:VEVENT
BEGIN:VEVENT
DTSTART;TZID=America/Los_Angeles:20260415T193000
DTEND;TZID=America/Los_Angeles:20260415T204500
DTSTAMP:20260425T171618
CREATED:20260414T152252Z
LAST-MODIFIED:20260414T152252Z
UID:7775-1776281400-1776285900@powayknights.com
SUMMARY:Council Meeting
DESCRIPTION:
URL:https://powayknights.com/event/council-meeting-60/
LOCATION:St Gabriel Church\, 13734 Twin Peaks Road\, Poway\, CA\, 92064\, United States
CATEGORIES:Knights Events,Meetings
END:VEVENT
BEGIN:VEVENT
DTSTART;TZID=America/Los_Angeles:20260506T193000
DTEND;TZID=America/Los_Angeles:20260506T204500
DTSTAMP:20260425T171618
CREATED:20260414T152355Z
LAST-MODIFIED:20260414T152355Z
UID:7777-1778095800-1778100300@powayknights.com
SUMMARY:Council Meeting
DESCRIPTION:
URL:https://powayknights.com/event/council-meeting-61/
LOCATION:St Gabriel Church\, 13734 Twin Peaks Road\, Poway\, CA\, 92064\, United States
CATEGORIES:Knights Events,Meetings
END:VEVENT
BEGIN:VEVENT
DTSTART;TZID=America/Los_Angeles:20260520T193000
DTEND;TZID=America/Los_Angeles:20260520T204500
DTSTAMP:20260425T171618
CREATED:20260414T152436Z
LAST-MODIFIED:20260414T152436Z
UID:7779-1779305400-1779309900@powayknights.com
SUMMARY:Council Meeting
DESCRIPTION:
URL:https://powayknights.com/event/council-meeting-62/
LOCATION:St Gabriel Church\, 13734 Twin Peaks Road\, Poway\, CA\, 92064\, United States
CATEGORIES:Knights Events,Meetings
END:VEVENT
BEGIN:VEVENT
DTSTART;TZID=America/Los_Angeles:20260603T193000
DTEND;TZID=America/Los_Angeles:20260603T204500
DTSTAMP:20260425T171618
CREATED:20260414T152522Z
LAST-MODIFIED:20260414T152522Z
UID:7781-1780515000-1780519500@powayknights.com
SUMMARY:Council Meeting
DESCRIPTION:
URL:https://powayknights.com/event/council-meeting-63/
LOCATION:St Gabriel Church\, 13734 Twin Peaks Road\, Poway\, CA\, 92064\, United States
CATEGORIES:Knights Events,Meetings
END:VEVENT
BEGIN:VEVENT
DTSTART;TZID=America/Los_Angeles:20260617T193000
DTEND;TZID=America/Los_Angeles:20260617T204500
DTSTAMP:20260425T171618
CREATED:20260414T152605Z
LAST-MODIFIED:20260414T152605Z
UID:7783-1781724600-1781729100@powayknights.com
SUMMARY:Council Meeting
DESCRIPTION:
URL:https://powayknights.com/event/council-meeting-64/
LOCATION:St Gabriel Church\, 13734 Twin Peaks Road\, Poway\, CA\, 92064\, United States
CATEGORIES:Knights Events,Meetings
END:VEVENT
END:VCALENDAR