BEGIN:VCALENDAR
VERSION:2.0
PRODID:-//Poway Knights of Columbus - ECPv6.15.17.1//NONSGML v1.0//EN
CALSCALE:GREGORIAN
METHOD:PUBLISH
X-WR-CALNAME:Poway Knights of Columbus
X-ORIGINAL-URL:https://powayknights.com
X-WR-CALDESC:Events for Poway Knights of Columbus
REFRESH-INTERVAL;VALUE=DURATION:PT1H
X-Robots-Tag:noindex
X-PUBLISHED-TTL:PT1H
BEGIN:VTIMEZONE
TZID:America/Los_Angeles
BEGIN:DAYLIGHT
TZOFFSETFROM:-0800
TZOFFSETTO:-0700
TZNAME:PDT
DTSTART:20240310T100000
END:DAYLIGHT
BEGIN:STANDARD
TZOFFSETFROM:-0700
TZOFFSETTO:-0800
TZNAME:PST
DTSTART:20241103T090000
END:STANDARD
BEGIN:DAYLIGHT
TZOFFSETFROM:-0800
TZOFFSETTO:-0700
TZNAME:PDT
DTSTART:20250309T100000
END:DAYLIGHT
BEGIN:STANDARD
TZOFFSETFROM:-0700
TZOFFSETTO:-0800
TZNAME:PST
DTSTART:20251102T090000
END:STANDARD
BEGIN:DAYLIGHT
TZOFFSETFROM:-0800
TZOFFSETTO:-0700
TZNAME:PDT
DTSTART:20260308T100000
END:DAYLIGHT
BEGIN:STANDARD
TZOFFSETFROM:-0700
TZOFFSETTO:-0800
TZNAME:PST
DTSTART:20261101T090000
END:STANDARD
END:VTIMEZONE
BEGIN:VEVENT
DTSTART;TZID=America/Los_Angeles:20251025T170000
DTEND;TZID=America/Los_Angeles:20251025T230000
DTSTAMP:20260425T041026
CREATED:20250716T183013Z
LAST-MODIFIED:20250814T202227Z
UID:7334-1761411600-1761433200@powayknights.com
SUMMARY:2025 Knight to Remember
DESCRIPTION:[vc_row][vc_column][vc_custom_heading text=”Annual Knights of Columbus Dinner Fundraiser!” font_container=”tag:h2|text_align:center” use_theme_fonts=”yes”][/vc_column][/vc_row][vc_row][vc_column][vc_column_text css=””] \nDon’t Miss Our Biggest Event! Meet us at the Monsignor Charles Dollen Hall\nAmazing Cuisine • Hosted Bar • Dance & Entertainment • Auction • Prizes\n[/vc_column_text][/vc_column][/vc_row][vc_row][vc_column width=”3/4″][vc_column_text css=””]The Dinner\, Silent\, and Live Auction Event is on Oct 25th from 5-11 PM.\nDinner Ticket(s) – $150 on sale from Aug. 1 – Oct. 19\nReverse Raffle Ticket(s) – $100/ea\, available Aug. 1 – Oct. 19 or until 300 sold![/vc_column_text][vc_column_text css=””] \nOn your mobile device\, open your camera and point it at the QR image to the ticket purchase page\, OR click buttons below to purchase\, or volunteer to assist and sell tickets! Thank you!\n[/vc_column_text][vc_btn title=”GET YOUR TICKETS!” color=”violet” size=”lg” align=”center” i_icon_fontawesome=”fas fa-external-link-alt” css=”” button_block=”true” add_icon=”true” link=”url:https%3A%2F%2Ftinyurl.com%2F70sin2025|title:Tickets%2FRegister|target:_blank”][vc_column_text css=””] \nVolunteer to assist and sell tickets! Knight 2 Remember ticket sales after mass\, 15-20 minutes. We will utilize the computers to conduct sales transactions for dinner\, reverse raffle ticket(s)\, and solicit sponsorship. We have spots for Tent Set-Up\, and Hispanic Ticket Sales\, too! Thank you!\n[/vc_column_text][vc_btn title=”VOLUNTEER SIGN-UP!” color=”juicy-pink” size=”lg” align=”center” i_icon_fontawesome=”fas fa-external-link-alt” css=”” button_block=”true” add_icon=”true” link=”url:https%3A%2F%2Fsignup.com%2Fgo%2FPscGTOK|title:Tickets%2FRegister|target:_blank”][/vc_column][vc_column width=”1/4″][vc_single_image image=”7355″ img_size=”full” css=””][vc_column_text css=””]Buy a ticket before September 1st to DOUBLE your casino chips to $50 at the event![/vc_column_text][vc_custom_heading text=”Scan QR Code” font_container=”tag:h4|text_align:left” use_theme_fonts=”yes”][vc_single_image image=”7336″ img_size=”full” css=””][/vc_column][/vc_row]
URL:https://powayknights.com/event/2025-knight-to-remember/
LOCATION:St Gabriel Church\, 13734 Twin Peaks Road\, Poway\, CA\, 92064\, United States
CATEGORIES:Fundraising,Knights Events
ATTACH;FMTTYPE=image/jpeg:https://powayknights.com/wp-content/uploads/2025/07/Header-70s-web.jpg
END:VEVENT
END:VCALENDAR